BEGIN:VCALENDAR
VERSION:2.0
PRODID:-//Rotary Club of Medford Oregon - ECPv6.15.20//NONSGML v1.0//EN
CALSCALE:GREGORIAN
METHOD:PUBLISH
X-WR-CALNAME:Rotary Club of Medford Oregon
X-ORIGINAL-URL:https://rotarymedford.org
X-WR-CALDESC:Events for Rotary Club of Medford Oregon
REFRESH-INTERVAL;VALUE=DURATION:PT1H
X-Robots-Tag:noindex
X-PUBLISHED-TTL:PT1H
BEGIN:VTIMEZONE
TZID:America/Los_Angeles
BEGIN:DAYLIGHT
TZOFFSETFROM:-0800
TZOFFSETTO:-0700
TZNAME:PDT
DTSTART:20250309T100000
END:DAYLIGHT
BEGIN:STANDARD
TZOFFSETFROM:-0700
TZOFFSETTO:-0800
TZNAME:PST
DTSTART:20251102T090000
END:STANDARD
BEGIN:DAYLIGHT
TZOFFSETFROM:-0800
TZOFFSETTO:-0700
TZNAME:PDT
DTSTART:20260308T100000
END:DAYLIGHT
BEGIN:STANDARD
TZOFFSETFROM:-0700
TZOFFSETTO:-0800
TZNAME:PST
DTSTART:20261101T090000
END:STANDARD
BEGIN:DAYLIGHT
TZOFFSETFROM:-0800
TZOFFSETTO:-0700
TZNAME:PDT
DTSTART:20270314T100000
END:DAYLIGHT
BEGIN:STANDARD
TZOFFSETFROM:-0700
TZOFFSETTO:-0800
TZNAME:PST
DTSTART:20271107T090000
END:STANDARD
END:VTIMEZONE
BEGIN:VEVENT
DTSTART;TZID=America/Los_Angeles:20260106T120000
DTEND;TZID=America/Los_Angeles:20260106T130000
DTSTAMP:20260420T094214
CREATED:20251229T192520Z
LAST-MODIFIED:20251229T192520Z
UID:47882-1767700800-1767704400@rotarymedford.org
SUMMARY:Rogue Valley Manor Update
DESCRIPTION:David Keaton- Executive Director of RVM with an update about Rogue Valley Manor and a glimpse into the future of the Manor.
URL:https://rotarymedford.org/event/rogue-valley-manor-update/
LOCATION:The Rogue Valley Manor\, 1200 Mira Mar Ave\, Medford\, OR\, 97504\, United States
CATEGORIES:Club Meetings
END:VEVENT
BEGIN:VEVENT
DTSTART;TZID=America/Los_Angeles:20260127T120000
DTEND;TZID=America/Los_Angeles:20260127T130000
DTSTAMP:20260420T094214
CREATED:20260105T172759Z
LAST-MODIFIED:20260105T172759Z
UID:47885-1769515200-1769518800@rotarymedford.org
SUMMARY:Mountain Biking in the Rogue Valley - Hidden in Plain Sight
DESCRIPTION:Mountain biking in the Rogue Valley inclusively serves far more people than you might expect\, and it’s quietly become a meaningful economic driver. Ryan Hawk looks at how trails support local businesses\, volunteerism\, and why smart investment could strengthen our community and regional tourism. \n 
URL:https://rotarymedford.org/event/mountain-biking-in-the-rogue-valley-hidden-in-plain-sight/
LOCATION:Rogue Valley Country Club\, 2660 Hillcrest Rd.\, Medford\, OR\, 97504\, United States
CATEGORIES:Club Meetings
END:VEVENT
END:VCALENDAR