BEGIN:VCALENDAR
VERSION:2.0
PRODID:-//Rotary Club of Medford Oregon - ECPv6.15.20//NONSGML v1.0//EN
CALSCALE:GREGORIAN
METHOD:PUBLISH
X-ORIGINAL-URL:https://rotarymedford.org
X-WR-CALDESC:Events for Rotary Club of Medford Oregon
REFRESH-INTERVAL;VALUE=DURATION:PT1H
X-Robots-Tag:noindex
X-PUBLISHED-TTL:PT1H
BEGIN:VTIMEZONE
TZID:America/Los_Angeles
BEGIN:DAYLIGHT
TZOFFSETFROM:-0800
TZOFFSETTO:-0700
TZNAME:PDT
DTSTART:20240310T100000
END:DAYLIGHT
BEGIN:STANDARD
TZOFFSETFROM:-0700
TZOFFSETTO:-0800
TZNAME:PST
DTSTART:20241103T090000
END:STANDARD
BEGIN:DAYLIGHT
TZOFFSETFROM:-0800
TZOFFSETTO:-0700
TZNAME:PDT
DTSTART:20250309T100000
END:DAYLIGHT
BEGIN:STANDARD
TZOFFSETFROM:-0700
TZOFFSETTO:-0800
TZNAME:PST
DTSTART:20251102T090000
END:STANDARD
BEGIN:DAYLIGHT
TZOFFSETFROM:-0800
TZOFFSETTO:-0700
TZNAME:PDT
DTSTART:20260308T100000
END:DAYLIGHT
BEGIN:STANDARD
TZOFFSETFROM:-0700
TZOFFSETTO:-0800
TZNAME:PST
DTSTART:20261101T090000
END:STANDARD
END:VTIMEZONE
BEGIN:VEVENT
DTSTART;TZID=America/Los_Angeles:20250624T120000
DTEND;TZID=America/Los_Angeles:20250624T130000
DTSTAMP:20260421T170744
CREATED:20250526T154904Z
LAST-MODIFIED:20250526T160535Z
UID:47654-1750766400-1750770000@rotarymedford.org
SUMMARY:Celebrating Madame President: Breann Wright
DESCRIPTION:Rotary Club of Medford Weekly Meeting – Tuesday\, June 24 at Noon\nLocation: Rogue Valley Country Club \nCan you believe it’s been a year already?  Neither can we!  Board Members are putting together this top notch program that is fitting for both Club Members and Prospective Members and Guests. \nJoin us this Tuesday at noon to celebrate our always positive and fantastic Leader at the help of our club over the last 350 days\, Rotarian Breann Wright — please be sure to come to celebrate and thank our outgoing president before the Rotary Bell is passed! \nEveryone is strongly encouraged to don your Dodger Blue as a hat tip to Madame President’s favorite Sports Team or wear flamboyant Country Attire in respect to one of Breann’s favorite female inspirations\, Dolly Parton. \nGuests are always welcome. Come early\, enjoy lunch\, and connect with fellow Rotarians. \nWe look forward to seeing you there!
URL:https://rotarymedford.org/event/celebrating-madame-president-breann-wright/
LOCATION:Rogue Valley Country Club\, 2660 Hillcrest Rd.\, Medford\, OR\, 97504\, United States
CATEGORIES:Club Meetings
ATTACH;FMTTYPE=image/png:https://rotarymedford.org/wp-content/uploads/2025/05/Breann.png
ORGANIZER;CN="Aimee Arnold":MAILTO:aimee@aimeearnold.com
END:VEVENT
END:VCALENDAR