BEGIN:VCALENDAR
VERSION:2.0
PRODID:-//Rotary Club of Medford Oregon - ECPv6.15.20//NONSGML v1.0//EN
CALSCALE:GREGORIAN
METHOD:PUBLISH
X-ORIGINAL-URL:https://rotarymedford.org
X-WR-CALDESC:Events for Rotary Club of Medford Oregon
REFRESH-INTERVAL;VALUE=DURATION:PT1H
X-Robots-Tag:noindex
X-PUBLISHED-TTL:PT1H
BEGIN:VTIMEZONE
TZID:America/Los_Angeles
BEGIN:DAYLIGHT
TZOFFSETFROM:-0800
TZOFFSETTO:-0700
TZNAME:PDT
DTSTART:20240310T100000
END:DAYLIGHT
BEGIN:STANDARD
TZOFFSETFROM:-0700
TZOFFSETTO:-0800
TZNAME:PST
DTSTART:20241103T090000
END:STANDARD
BEGIN:DAYLIGHT
TZOFFSETFROM:-0800
TZOFFSETTO:-0700
TZNAME:PDT
DTSTART:20250309T100000
END:DAYLIGHT
BEGIN:STANDARD
TZOFFSETFROM:-0700
TZOFFSETTO:-0800
TZNAME:PST
DTSTART:20251102T090000
END:STANDARD
BEGIN:DAYLIGHT
TZOFFSETFROM:-0800
TZOFFSETTO:-0700
TZNAME:PDT
DTSTART:20260308T100000
END:DAYLIGHT
BEGIN:STANDARD
TZOFFSETFROM:-0700
TZOFFSETTO:-0800
TZNAME:PST
DTSTART:20261101T090000
END:STANDARD
END:VTIMEZONE
BEGIN:VEVENT
DTSTART;TZID=America/Los_Angeles:20250520T120000
DTEND;TZID=America/Los_Angeles:20250520T130000
DTSTAMP:20260421T131114
CREATED:20250506T175746Z
LAST-MODIFIED:20250506T175746Z
UID:47614-1747742400-1747746000@rotarymedford.org
SUMMARY:From Istanbul to Uganda - Michelle’s Rotary Travels 2025
DESCRIPTION:Please join us for a presentation highlighting Michelle’s recent travels to Istanbul\, Turkey for the Rotary International Peace Conference to Cappadocia to Uganda\, Africa as a Rotary Friendship Exchange team member.  It showcases other facets of Rotary and amazing opportunities within our truly global organization!
URL:https://rotarymedford.org/event/from-istanbul-to-uganda-michelles-rotary-travels-2025/
LOCATION:Rogue Valley Country Club\, 2660 Hillcrest Rd.\, Medford\, OR\, 97504\, United States
CATEGORIES:Club Meetings
END:VEVENT
END:VCALENDAR